Workbook

Sheet Dati iniziali
B1: unità | C1: prezzo (ml) | D1: bdg vendite
A2: professional | B2: 8400 | C2: 1.8
A3: liberty | B3: 2250 | C3: 2.6
A4: old style | B4: 1560 | C4: 3.2
B6: professional | C6: liberty | D6: old style
A7: materie prime
A8: standard fisico | B8: 0.6 | C8: 0.9 | D8: 1.7 | E8: =B2*B8*B9 -> 6552
A9: prezzo costo unitario | B9: 1.3 | C9: 0.9 | D9: 0.6
A10: MOD
A11: standard fisico | B11: 1.1 | C11: 0.8 | D11: 0.4
A12: prezzo costo unitario | B12: 0.7 | C12: 0.9 | D12: 2.4
A15: consuntivi | B15: professional | C15: liberty | D15: old style
A16: fatturato (ml) | B16: 18000 | C16: 6060 | D16: 3740
A17: unità vendute | B17: 7500 | C17: 2020 | D17: 1870
A18: Costi diretti (ml)
A19: Materie prime prezzo-costo unitario | B19: 1.5 | C19: 1 | D19: 0.5
A20: Materie prime costo totale | B20: 7020 | C20: 1980 | D20: 1280 | E20: =E8-B20 -> -468
A21: MOD prezzo costo unitario | B21: 0.8 | C21: 0.8 | D21: 2.2
A22: MOD costo totale | B22: 7088 | C22: 1344 | D22: 1460.8

Sheet Scostamenti mp
A1: Costi variabili
F2: Scost Quantità | K2: Scost Efficienza | P2: Scost Prezzo
B3: qbdg | C3: cons bdg | D3: p bdg | F3: qbdg | G3: cons bdg | H3: p bdg | K3: q cons | L3: cons bdg | M3: p bdg | P3: q cons | Q3: cons cons | R3: p bdg
A4: professional | B4: ='Dati iniziali'!B2 -> 8400 | C4: ='Dati iniziali'!B8 -> 0.6 | D4: ='Dati iniziali'!B9 -> 1.3 | F4: =B4 -> 8400 | G4: =C4 -> 0.6 | H4: =D4 -> 1.3 | I4: =F4*G4*H4 -> 6552 | K4: =B9 -> 7500 | L4: =C4 -> 0.6 | M4: =D4 -> 1.3 | N4: =K4*L4*M4 -> 5850 | P4: =B9 -> 7500 | Q4: =C9 -> 0.624 | R4: =D4 -> 1.3 | S4: =P4*Q4*R4 -> 6084
A5: liberty | B5: ='Dati iniziali'!B3 -> 2250 | C5: ='Dati iniziali'!C8 -> 0.9 | D5: ='Dati iniziali'!C9 -> 0.9 | F5: =B5 -> 2250 | G5: =C5 -> 0.9 | H5: =D5 -> 0.9 | I5: =F5*G5*H5 -> 1822.5 | K5: =B10 -> 2020 | L5: =C5 -> 0.9 | M5: =D5 -> 0.9 | N5: =K5*L5*M5 -> 1636.2 | P5: =B10 -> 2020 | Q5: =C10 -> 0.98019802 | R5: =D5 -> 0.9 | S5: =P5*Q5*R5 -> 1782
A6: old style | B6: ='Dati iniziali'!B4 -> 1560 | C6: ='Dati iniziali'!D8 -> 1.7 | D6: ='Dati iniziali'!D9 -> 0.6 | F6: =B6 -> 1560 | G6: =C6 -> 1.7 | H6: =D6 -> 0.6 | I6: =F6*G6*H6 -> 1591.2 | K6: =B11 -> 1870 | L6: =C6 -> 1.7 | M6: =D6 -> 0.6 | N6: =K6*L6*M6 -> 1907.4 | P6: =B11 -> 1870 | Q6: =C11 -> 1.368984 | R6: =D6 -> 0.6 | S6: =P6*Q6*R6 -> 1536
B8: q cons | C8: cons cons | D8: p cons | F8: q cons | G8: cons bdg | H8: p bdg | K8: q cons | L8: cons cons | M8: p bdg | P8: q cons | Q8: cons cons | R8: p cons
A9: professional | B9: ='Dati iniziali'!B17 -> 7500 | C9: ='Dati iniziali'!B20/('Dati iniziali'!B19*'Dati iniziali'!B17) -> 0.624 | D9: ='Dati iniziali'!B19 -> 1.5 | F9: =B9 -> 7500 | G9: =C4 -> 0.6 | H9: =D4 -> 1.3 | I9: =F9*G9*H9 -> 5850 | K9: =B9 -> 7500 | L9: =C9 -> 0.624 | M9: =D4 -> 1.3 | N9: =K9*L9*M9 -> 6084 | P9: =B9 -> 7500 | Q9: =C9 -> 0.624 | R9: =D9 -> 1.5 | S9: =P9*Q9*R9 -> 7020
A10: liberty | B10: ='Dati iniziali'!C17 -> 2020 | C10: ='Dati iniziali'!C20/'Dati iniziali'!C19/'Dati iniziali'!C17 -> 0.98019802 | D10: ='Dati iniziali'!C19 -> 1 | F10: =B10 -> 2020 | G10: =C5 -> 0.9 | H10: =D5 -> 0.9 | I10: =F10*G10*H10 -> 1636.2 | K10: =B10 -> 2020 | L10: =C10 -> 0.98019802 | M10: =D5 -> 0.9 | N10: =K10*L10*M10 -> 1782 | P10: =B10 -> 2020 | Q10: =C10 -> 0.98019802 | R10: =D10 -> 1 | S10: =P10*Q10*R10 -> 1980
A11: old style | B11: ='Dati iniziali'!D17 -> 1870 | C11: ='Dati iniziali'!D20/'Dati iniziali'!D19/'Dati iniziali'!D17 -> 1.368984 | D11: ='Dati iniziali'!D19 -> 0.5 | F11: =B11 -> 1870 | G11: =C6 -> 1.7 | H11: =D6 -> 0.6 | I11: =F11*G11*H11 -> 1907.4 | K11: =B11 -> 1870 | L11: =C11 -> 1.368984 | M11: =D6 -> 0.6 | N11: =K11*L11*M11 -> 1536 | P11: =B11 -> 1870 | Q11: =C11 -> 1.368984 | R11: =D11 -> 0.5 | S11: =P11*Q11*R11 -> 1280
B13: scost volume | C13: Scost eff | D13: Scost prezzo | E13: totale
A14: professional | B14: =I4-I9 -> 702 | C14: =N4-N9 -> -234 | D14: =S4-S9 -> -936 | E14: =SUM(B14:D14) -> -468
A15: liberty | B15: =I5-I10 -> 186.3 | C15: =N5-N10 -> -145.8 | D15: =S5-S10 -> -198 | E15: =SUM(B15:D15) -> -157.5
A16: old style | B16: =I6-I11 -> -316.2 | C16: =N6-N11 -> 371.4 | D16: =S6-S11 -> 256 | E16: =SUM(B16:D16) -> 311.2

Sheet Scostamenti mod
A1: Costo MDO
F2: Scost Quantità | K2: Scost Efficienza | P2: Scost Prezzo
B3: qbdg | C3: cons bdg | D3: p bdg | F3: qbdg | G3: cons bdg | H3: p bdg | K3: q cons | L3: cons bdg | M3: p bdg | P3: q cons | Q3: cons cons | R3: p bdg
A4: professional | B4: ='Dati iniziali'!B2 -> 8400 | C4: ='Dati iniziali'!B11 -> 1.1 | D4: ='Dati iniziali'!B12 -> 0.7 | F4: =B4 -> 8400 | G4: =C4 -> 1.1 | H4: =D4 -> 0.7 | I4: =F4*G4*H4 -> 6468 | K4: =B9 -> 7500 | L4: =C4 -> 1.1 | M4: =D4 -> 0.7 | N4: =K4*L4*M4 -> 5775 | P4: =B9 -> 7500 | Q4: =C9 -> 1.1813333 | R4: =D4 -> 0.7 | S4: =P4*Q4*R4 -> 6202
A5: liberty | B5: ='Dati iniziali'!B3 -> 2250 | C5: ='Dati iniziali'!C11 -> 0.8 | D5: ='Dati iniziali'!C12 -> 0.9 | F5: =B5 -> 2250 | G5: =C5 -> 0.8 | H5: =D5 -> 0.9 | I5: =F5*G5*H5 -> 1620 | K5: =B10 -> 2020 | L5: =C5 -> 0.8 | M5: =D5 -> 0.9 | N5: =K5*L5*M5 -> 1454.4 | P5: =B10 -> 2020 | Q5: =C10 -> 0.83168317 | R5: =D5 -> 0.9 | S5: =P5*Q5*R5 -> 1512
A6: old style | B6: ='Dati iniziali'!B4 -> 1560 | C6: ='Dati iniziali'!D11 -> 0.4 | D6: ='Dati iniziali'!D12 -> 2.4 | F6: =B6 -> 1560 | G6: =C6 -> 0.4 | H6: =D6 -> 2.4 | I6: =F6*G6*H6 -> 1497.6 | K6: =B11 -> 1870 | L6: =C6 -> 0.4 | M6: =D6 -> 2.4 | N6: =K6*L6*M6 -> 1795.2 | P6: =B11 -> 1870 | Q6: =C11 -> 0.35508021 | R6: =D6 -> 2.4 | S6: =P6*Q6*R6 -> 1593.6
B8: q cons | C8: cons cons | D8: p cons | F8: q cons | G8: cons bdg | H8: p bdg | K8: q cons | L8: cons cons | M8: p bdg | P8: q cons | Q8: cons cons | R8: p cons
A9: professional | B9: ='Dati iniziali'!B17 -> 7500 | C9: ='Dati iniziali'!B22/'Dati iniziali'!B21/'Dati iniziali'!B17 -> 1.1813333 | D9: ='Dati iniziali'!B21 -> 0.8 | F9: =B9 -> 7500 | G9: =C4 -> 1.1 | H9: =D4 -> 0.7 | I9: =F9*G9*H9 -> 5775 | K9: =B9 -> 7500 | L9: =C9 -> 1.1813333 | M9: =D4 -> 0.7 | N9: =K9*L9*M9 -> 6202 | P9: =B9 -> 7500 | Q9: =C9 -> 1.1813333 | R9: =D9 -> 0.8 | S9: =P9*Q9*R9 -> 7088
A10: liberty | B10: ='Dati iniziali'!C17 -> 2020 | C10: ='Dati iniziali'!C22/'Dati iniziali'!C21/'Dati iniziali'!C17 -> 0.83168317 | D10: ='Dati iniziali'!C21 -> 0.8 | F10: =B10 -> 2020 | G10: =C5 -> 0.8 | H10: =D5 -> 0.9 | I10: =F10*G10*H10 -> 1454.4 | K10: =B10 -> 2020 | L10: =C10 -> 0.83168317 | M10: =D5 -> 0.9 | N10: =K10*L10*M10 -> 1512 | P10: =B10 -> 2020 | Q10: =C10 -> 0.83168317 | R10: =D10 -> 0.8 | S10: =P10*Q10*R10 -> 1344
A11: old style | B11: ='Dati iniziali'!D17 -> 1870 | C11: ='Dati iniziali'!D22/'Dati iniziali'!D21/'Dati iniziali'!D17 -> 0.35508021 | D11: ='Dati iniziali'!D21 -> 2.2 | F11: =B11 -> 1870 | G11: =C6 -> 0.4 | H11: =D6 -> 2.4 | I11: =F11*G11*H11 -> 1795.2 | K11: =B11 -> 1870 | L11: =C11 -> 0.35508021 | M11: =D6 -> 2.4 | N11: =K11*L11*M11 -> 1593.6 | P11: =B11 -> 1870 | Q11: =C11 -> 0.35508021 | R11: =D11 -> 2.2 | S11: =P11*Q11*R11 -> 1460.8
B13: scost volume | C13: Scost eff | D13: Scost prezzo | E13: totale
A14: professional | B14: =I4-I9 -> 693 | C14: =N4-N9 -> -427 | D14: =S4-S9 -> -886 | E14: =SUM(B14:D14) -> -620
A15: liberty | B15: =I5-I10 -> 165.6 | C15: =N5-N10 -> -57.6 | D15: =S5-S10 -> 168 | E15: =SUM(B15:D15) -> 276
A16: old style | B16: =I6-I11 -> -297.6 | C16: =N6-N11 -> 201.6 | D16: =S6-S11 -> 132.8 | E16: =SUM(B16:D16) -> 36.8

Sheet Scost ricavi
F2: Scostamento quantità | J2: Scostamento prezzo
B3: Quantità | C3: Prezzo | D3: Ricavi | F3: Quantità | G3: Prezzo | J3: Quantità | K3: Prezzo
A4: professional | B4: ='Dati iniziali'!B2 -> 8400 | C4: ='Dati iniziali'!C2 -> 1.8 | D4: =B4*C4 -> 15120 | F4: =B4 -> 8400 | G4: =C4 -> 1.8 | H4: =F4*G4 -> 15120 | J4: =B9 -> 7500 | K4: =C4 -> 1.8 | L4: =J4*K4 -> 13500
A5: liberty | B5: ='Dati iniziali'!B3 -> 2250 | C5: ='Dati iniziali'!C3 -> 2.6 | D5: =B5*C5 -> 5850 | F5: =B5 -> 2250 | G5: =C5 -> 2.6 | H5: =F5*G5 -> 5850 | J5: =B10 -> 2020 | K5: =C5 -> 2.6 | L5: =J5*K5 -> 5252
A6: old style | B6: ='Dati iniziali'!B4 -> 1560 | C6: ='Dati iniziali'!C4 -> 3.2 | D6: =B6*C6 -> 4992 | F6: =B6 -> 1560 | G6: =C6 -> 3.2 | H6: =F6*G6 -> 4992 | J6: =B11 -> 1870 | K6: =C6 -> 3.2 | L6: =J6*K6 -> 5984
B8: Quantità | C8: Prezzo | D8: Ricavi | F8: Quantità | G8: Prezzo | J8: Quantità | K8: Prezzo
A9: professional | B9: ='Dati iniziali'!B17 -> 7500 | C9: =D9/B9 -> 2.4 | D9: ='Dati iniziali'!B16 -> 18000 | F9: =B9 -> 7500 | G9: =C4 -> 1.8 | H9: =F9*G9 -> 13500 | J9: =B9 -> 7500 | K9: =C9 -> 2.4 | L9: =J9*K9 -> 18000
A10: liberty | B10: ='Dati iniziali'!C17 -> 2020 | C10: =D10/B10 -> 3 | D10: ='Dati iniziali'!C16 -> 6060 | F10: =B10 -> 2020 | G10: =C5 -> 2.6 | H10: =F10*G10 -> 5252 | J10: =B10 -> 2020 | K10: =C10 -> 3 | L10: =J10*K10 -> 6060
A11: old style | B11: ='Dati iniziali'!D17 -> 1870 | C11: =D11/B11 -> 2 | D11: ='Dati iniziali'!D16 -> 3740 | F11: =B11 -> 1870 | G11: =C6 -> 3.2 | H11: =F11*G11 -> 5984 | J11: =B11 -> 1870 | K11: =C11 -> 2 | L11: =J11*K11 -> 3740
B13: Sc quant | C13: Sc prezzo | D13: Totale
A14: professional | B14: =H4-H9 -> 1620 | C14: =L4-L9 -> -4500 | D14: =B14+C14 -> -2880
A15: liberty | B15: =H5-H10 -> 598 | C15: =L5-L10 -> -808 | D15: =B15+C15 -> -210
A16: old style | B16: =H6-H11 -> -992 | C16: =L6-L11 -> 2244 | D16: =B16+C16 -> 1252

Sheet Scost ricavi mix
G2: Scostamento quantità | L2: Scostamento quantità | Q2: Scostamento prezzo
B3: Quantità | C3: Prezzo | D3: Ricavi | E3: Mix | G3: quantità | H3: mix | I3: prezzo | L3: quantità | M3: mix | N3: prezzo | Q3: quantità | R3: mix | S3: prezzo
A4: professional | B4: ='Dati iniziali'!B2 -> 8400 | C4: ='Dati iniziali'!C2 -> 1.8 | D4: =B4*C4 -> 15120 | E4: =B4/$B$7 -> 0.68796069 | G4: =$B$7 -> 12210 | H4: =E4 -> 0.68796069 | I4: =C4 -> 1.8 | J4: =G4*H4*I4 -> 15120 | L4: =$B$13 -> 11390 | M4: =E4 -> 0.68796069 | N4: =C4 -> 1.8 | O4: =L4*M4*N4 -> 14104.57 | Q4: =$B$13 -> 11390 | R4: =E10 -> 0.65847234 | S4: =C4 -> 1.8 | T4: =Q4*R4*S4 -> 13500
A5: liberty | B5: ='Dati iniziali'!B3 -> 2250 | C5: ='Dati iniziali'!C3 -> 2.6 | D5: =B5*C5 -> 5850 | E5: =B5/$B$7 -> 0.18427518 | G5: =$B$7 -> 12210 | H5: =E5 -> 0.18427518 | I5: =C5 -> 2.6 | J5: =G5*H5*I5 -> 5850 | L5: =$B$13 -> 11390 | M5: =E5 -> 0.18427518 | N5: =C5 -> 2.6 | O5: =L5*M5*N5 -> 5457.1253 | Q5: =$B$13 -> 11390 | R5: =E11 -> 0.17734855 | S5: =C5 -> 2.6 | T5: =Q5*R5*S5 -> 5252
A6: old style | B6: ='Dati iniziali'!B4 -> 1560 | C6: ='Dati iniziali'!C4 -> 3.2 | D6: =B6*C6 -> 4992 | E6: =B6/$B$7 -> 0.12776413 | G6: =$B$7 -> 12210 | H6: =E6 -> 0.12776413 | I6: =C6 -> 3.2 | J6: =G6*H6*I6 -> 4992 | L6: =$B$13 -> 11390 | M6: =E6 -> 0.12776413 | N6: =C6 -> 3.2 | O6: =L6*M6*N6 -> 4656.7469 | Q6: =$B$13 -> 11390 | R6: =E12 -> 0.1641791 | S6: =C6 -> 3.2 | T6: =Q6*R6*S6 -> 5984
B7: =SUM(B4:B6) -> 12210 | E7: =SUM(E4:E6) -> 1 | J7: =SUM(J4:J6) -> 25962 | O7: =SUM(O4:O6) -> 24218.442 | T7: =SUM(T4:T6) -> 24736
B9: Quantità | C9: Prezzo | D9: Ricavi | E9: Mix | G9: quantità | H9: mix | I9: prezzo | L9: quantità | M9: mix | N9: prezzo | Q9: quantità | R9: mix | S9: prezzo
A10: professional | B10: ='Dati iniziali'!B17 -> 7500 | C10: =D10/B10 -> 2.4 | D10: ='Dati iniziali'!B16 -> 18000 | E10: =B10/$B$13 -> 0.65847234 | G10: =$B$13 -> 11390 | H10: =E4 -> 0.68796069 | I10: =C4 -> 1.8 | J10: =G10*H10*I10 -> 14104.57 | L10: =$B$13 -> 11390 | M10: =E10 -> 0.65847234 | N10: =C4 -> 1.8 | O10: =L10*M10*N10 -> 13500 | Q10: =$B$13 -> 11390 | R10: =E10 -> 0.65847234 | S10: =C10 -> 2.4 | T10: =Q10*R10*S10 -> 18000
A11: liberty | B11: ='Dati iniziali'!C17 -> 2020 | C11: =D11/B11 -> 3 | D11: ='Dati iniziali'!C16 -> 6060 | E11: =B11/$B$13 -> 0.17734855 | G11: =$B$13 -> 11390 | H11: =E5 -> 0.18427518 | I11: =C5 -> 2.6 | J11: =G11*H11*I11 -> 5457.1253 | L11: =$B$13 -> 11390 | M11: =E11 -> 0.17734855 | N11: =C5 -> 2.6 | O11: =L11*M11*N11 -> 5252 | Q11: =$B$13 -> 11390 | R11: =E11 -> 0.17734855 | S11: =C11 -> 3 | T11: =Q11*R11*S11 -> 6060
A12: old style | B12: ='Dati iniziali'!D17 -> 1870 | C12: =D12/B12 -> 2 | D12: ='Dati iniziali'!D16 -> 3740 | E12: =B12/$B$13 -> 0.1641791 | G12: =$B$13 -> 11390 | H12: =E6 -> 0.12776413 | I12: =C6 -> 3.2 | J12: =G12*H12*I12 -> 4656.7469 | L12: =$B$13 -> 11390 | M12: =E12 -> 0.1641791 | N12: =C6 -> 3.2 | O12: =L12*M12*N12 -> 5984 | Q12: =$B$13 -> 11390 | R12: =E12 -> 0.1641791 | S12: =C12 -> 2 | T12: =Q12*R12*S12 -> 3740
B13: =SUM(B10:B12) -> 11390 | E13: =SUM(E10:E12) -> 1 | J13: =SUM(J10:J12) -> 24218.442 | O13: =SUM(O10:O12) -> 24736 | T13: =SUM(T10:T12) -> 27800
A16: Sc quant | B16: =J7-J13 -> 1743.5577
A17: Sc mix | B17: =O7-O13 -> -517.55774
A18: Sc prezzo | B18: =T7-T13 -> -3064
A19: Scost totale | B19: =SUM(B16:B18) -> -1838

Sheet Quadratura
A1: Costi materia prima
B2: Costo bdg | C2: Costo Cons | D2: tot scost elem. | E2: Controllo
A3: professional | B3: ='Dati iniziali'!B2*'Dati iniziali'!B8*'Dati iniziali'!B9 -> 6552 | C3: ='Dati iniziali'!B20 -> 7020 | D3: ='Scostamenti mp'!E14 -> -468 | E3: =(B3-C3)-D3 -> 0
A4: liberty | B4: ='Dati iniziali'!B3*'Dati iniziali'!C8*'Dati iniziali'!C9 -> 1822.5 | C4: ='Dati iniziali'!C20 -> 1980 | D4: ='Scostamenti mp'!E15 -> -157.5 | E4: =(B4-C4)-D4 -> 0
A5: old style | B5: ='Dati iniziali'!B4*'Dati iniziali'!D8*'Dati iniziali'!D9 -> 1591.2 | C5: ='Dati iniziali'!D20 -> 1280 | D5: ='Scostamenti mp'!E16 -> 311.2 | E5: =(B5-C5)-D5 -> 0
A7: Costi MOD
B8: Costo bdg | C8: Costo Cons | D8: tot scost elem. | E8: Controllo
A9: professional | B9: ='Dati iniziali'!B2*'Dati iniziali'!B11*'Dati iniziali'!B12 -> 6468 | C9: ='Dati iniziali'!B22 -> 7088 | D9: ='Scostamenti mod'!E14 -> -620 | E9: =(B9-C9)-D9 -> 0
A10: liberty | B10: ='Dati iniziali'!B3*'Dati iniziali'!C11*'Dati iniziali'!C12 -> 1620 | C10: ='Dati iniziali'!C22 -> 1344 | D10: ='Scostamenti mod'!E15 -> 276 | E10: =(B10-C10)-D10 -> 0
A11: old style | B11: ='Dati iniziali'!B4*'Dati iniziali'!D11*'Dati iniziali'!D12 -> 1497.6 | C11: ='Dati iniziali'!D22 -> 1460.8 | D11: ='Scostamenti mod'!E16 -> 36.8 | E11: =(B11-C11)-D11 -> 0
A13: Ricavi
B14: Ricavo bdg | C14: Ricavo cons | D14: tot scost elem. | E14: Controllo
A15: professional | B15: ='Dati iniziali'!B2*'Dati iniziali'!C2 -> 15120 | C15: ='Dati iniziali'!B16 -> 18000 | D15: ='Scost ricavi'!D14 -> -2880 | E15: =(B15-C15)-D15 -> 0
A16: liberty | B16: ='Dati iniziali'!B3*'Dati iniziali'!C3 -> 5850 | C16: ='Dati iniziali'!C16 -> 6060 | D16: ='Scost ricavi'!D15 -> -210 | E16: =(B16-C16)-D16 -> 0
A17: old style | B17: ='Dati iniziali'!B4*'Dati iniziali'!C4 -> 4992 | C17: ='Dati iniziali'!D16 -> 3740 | D17: ='Scost ricavi'!D16 -> 1252 | E17: =(B17-C17)-D17 -> 0
A19: Ricavi MIX
A20: Ricavo BDG | B20: ='Dati iniziali'!B2*'Dati iniziali'!C2+'Dati iniziali'!B3*'Dati iniziali'!C3+'Dati iniziali'!B4*'Dati iniziali'!C4 -> 25962
A21: Ricavo Cons | B21: ='Dati iniziali'!B16+'Dati iniziali'!C16+'Dati iniziali'!D16 -> 27800
A22: Tot scost elem | B22: ='Scost ricavi mix'!B19 -> -1838
A23: Controllo | B23: =(B20-B21)-B22 -> 0
