Workbook

Sheet prospetto riepilogo
B1: Attuale | C1: Ghini | D1: Martini | E1: Lotti
A2: Responsabile | B2: 35000
A3: Operai | B3: 40000
A4: Canone locazione | B4: =4500*12 -> 54000
A5: Detersivi e mat.cons. | B5: 8000
A6: Totale costi annui | B6: =SUM(B2:B5) -> 137000 | C6: =B6+'valutazione alternative'!B17 -> 270250 | D6: =B6+'valutazione alternative'!E17 -> 219750 | E6: =B6+'valutazione alternative'!H10 -> 130750
A7: Risultato I anno (totale costi) | C7: ='valutazione alternative'!B19+B6 -> 200250 | D7: =B6+'valutazione alternative'!E19 -> 149750 | E7: =B6+'valutazione alternative'!H13 -> 75750
A9: Risultato differenziale | C9: ='valutazione alternative'!B17 -> 133250 | D9: ='valutazione alternative'!E17 -> 82750 | E9: ='valutazione alternative'!H10 -> -6250
A10: Risultato differenziale Hp secondo fornitore | C10: =C9-10750 -> 122500 | D10: =D9-10750 -> 72000 | E10: =E9-10750 -> -17000

Sheet valutazione alternative
A1: Ghini | D1: Martini | G1: Lotti
A2: Costi emergenti lavanderia | B2: =25*5230 -> 130750 | D2: Costi emergenti lavanderia | E2: =25*5230 -> 130750 | G2: Costi emergenti lavanderia | H2: =25*5230 -> 130750
A3: Costi beauty center | D3: Costi cessanti | G3: Costi cessanti
A4: Solarim | B4: 5000 | D4: Responsabile | E4: 35000 | G4: Responsabile | H4: 35000
A5: Sauna | B5: 10500 | D5: Operai | E5: 40000 | G5: Operai | H5: 40000
A6: Canone locazione | B6: 54000 | D6: Canone locazione | E6: 54000 | G6: Canone locazione | H6: 54000
A7: Massaggiatrici | B7: 70000 | D7: Materiale di consumo | E7: 8000 | G7: Materiale di consumo | H7: 8000
A8: Totale costi emergenti | B8: =SUM(B2:B7) -> 270250 | D8: Totale costi cessanti | E8: =SUM(E4:E7) -> 137000 | G8: Totale costi cessanti | H8: =SUM(H4:H7) -> 137000
A10: Costi cessanti | D10: Costi emergenti foresteria | G10: Risultato differenziale | H10: =H2-H8 -> -6250
A11: Responsabile | B11: 35000 | D11: Ristrutturazioni | E11: =250000/5 -> 50000 | G11: costi emergenti I anno | H11: 15000
A12: Operai | B12: 40000 | D12: Personale portineria | E12: 25000 | G12: Ricavi emergenti I anno | H12: 70000
A13: Canone locazione | B13: 54000 | D13: Canone locazione | E13: 54000 | G13: Risultato differenziale I anno | H13: =H10+H11-H12 -> -61250
A14: Materiale di consumo | B14: 8000 | D14: Totale costi emergenti | E14: =SUM(E11:E13) -> 129000
A15: Totale costi cessanti | B15: =SUM(B11:B14) -> 137000 | D15: Ricavi emergenti foresteria | E15: =1000*4*10 -> 40000
A17: Risultato differenziale (maggiori costi) | B17: =B8-B15 -> 133250 | D17: Risultato differenziale (maggiori costi) | E17: =E2-E8+E14-E15 -> 82750
A18: Ricavi dismissione | B18: 70000 | D18: Ricavi dismissione | E18: 70000
A19: Risultato differenziale I anno | B19: =B17-B18 -> 63250 | D19: Risultato differenziale I anno | E19: =E17-E18 -> 12750

Sheet Foglio3
